BEGIN:VCALENDAR
VERSION:2.0
PRODID:-//Rotary Club of Croydon - ECPv4.8.1//NONSGML v1.0//EN
CALSCALE:GREGORIAN
METHOD:PUBLISH
X-WR-CALNAME:Rotary Club of Croydon
X-ORIGINAL-URL:https://rotarycroydon.org.au
X-WR-CALDESC:Events for Rotary Club of Croydon
BEGIN:VEVENT
DTSTART;TZID=Australia/Melbourne:20190215T080000
DTEND;TZID=Australia/Melbourne:20190215T170000
DTSTAMP:20190227T140612
CREATED:20180709T044037Z
LAST-MODIFIED:20180709T044037Z
UID:4473-1550217600-1550250000@rotarycroydon.org.au
SUMMARY:MULTI DISTRICT 3 DAY CONFERENCE
DESCRIPTION:
URL:https://rotarycroydon.org.au/event/multi-district-3-day-conference/2019-02-15/
END:VEVENT
END:VCALENDAR