BEGIN:VCALENDAR
VERSION:2.0
PRODID:-//Rotary Club of Croydon - ECPv4.8.1//NONSGML v1.0//EN
CALSCALE:GREGORIAN
METHOD:PUBLISH
X-WR-CALNAME:Rotary Club of Croydon
X-ORIGINAL-URL:https://rotarycroydon.org.au
X-WR-CALDESC:Events for Rotary Club of Croydon
BEGIN:VEVENT
DTSTART;TZID=Australia/Melbourne:20190212T183000
DTEND;TZID=Australia/Melbourne:20190212T200000
DTSTAMP:20190227T140540
CREATED:20180709T045207Z
LAST-MODIFIED:20180709T045207Z
UID:4493-1549996200-1550001600@rotarycroydon.org.au
SUMMARY:CLUB MEETING - DORSET GARDENS
DESCRIPTION:Club meeting \n
URL:https://rotarycroydon.org.au/event/club-meeting-dorset-gardens/2019-02-12/
LOCATION:Dorset Gardens Hotel\, 335 Dorset Road \, Croydon\, Victoria\, 3136\, Australia
GEO:-37.8032219;145.2892526
X-APPLE-STRUCTURED-LOCATION;VALUE=URI;X-ADDRESS=Dorset Gardens Hotel 335 Dorset Road  Croydon Victoria 3136 Australia;X-APPLE-RADIUS=500;X-TITLE=335 Dorset Road:geo:145.2892526,-37.8032219
END:VEVENT
END:VCALENDAR